BEGIN:VCALENDAR
VERSION:2.0
PRODID:-//eventon.com NONSGML v1.0//EN
CALSCALE:GREGORIAN
METHOD:PUBLISH
BEGIN:VEVENT
UID:69e74ea8ba971
DTSTAMP:20260421T101712Z
DTSTART:20260215T190900Z
DTEND:20260215T190900Z
LOCATION:
SUMMARY:Marche-en-Famenne - Belgique
DESCRIPTION:Marche-en-Famenne - Belgique\nhttps://harmonielaconcordefraisma
 raisdouai.fr/events/valenciennes-france-59-copy/
URL:https://harmonielaconcordefraismaraisdouai.fr/events/valenciennes-france-59-copy/
END:VEVENT
END:VCALENDAR