BEGIN:VCALENDAR
VERSION:2.0
PRODID:-//eventon.com NONSGML v1.0//EN
CALSCALE:GREGORIAN
METHOD:PUBLISH
BEGIN:VEVENT
UID:69e74ff89f88f
DTSTAMP:20260421T102248Z
DTSTART:20260514T180900Z
DTEND:20260514T180900Z
LOCATION:
SUMMARY:Wervicq - France (59)
DESCRIPTION:Wervicq - France (59)\nhttps://harmonielaconcordefraismaraisdou
 ai.fr/events/wervicq-france-59/
URL:https://harmonielaconcordefraismaraisdouai.fr/events/wervicq-france-59/
END:VEVENT
END:VCALENDAR